BEGIN:VCALENDAR
VERSION:2.0
PRODID:-//Guérande Golf Académie - ECPv6.15.20//NONSGML v1.0//EN
CALSCALE:GREGORIAN
METHOD:PUBLISH
X-WR-CALNAME:Guérande Golf Académie
X-ORIGINAL-URL:https://guerandegolfacademie.fr
X-WR-CALDESC:Évènements pour Guérande Golf Académie
REFRESH-INTERVAL;VALUE=DURATION:PT1H
X-Robots-Tag:noindex
X-PUBLISHED-TTL:PT1H
BEGIN:VTIMEZONE
TZID:Europe/Paris
BEGIN:DAYLIGHT
TZOFFSETFROM:+0100
TZOFFSETTO:+0200
TZNAME:CEST
DTSTART:20220327T010000
END:DAYLIGHT
BEGIN:STANDARD
TZOFFSETFROM:+0200
TZOFFSETTO:+0100
TZNAME:CET
DTSTART:20221030T010000
END:STANDARD
BEGIN:DAYLIGHT
TZOFFSETFROM:+0100
TZOFFSETTO:+0200
TZNAME:CEST
DTSTART:20230326T010000
END:DAYLIGHT
BEGIN:STANDARD
TZOFFSETFROM:+0200
TZOFFSETTO:+0100
TZNAME:CET
DTSTART:20231029T010000
END:STANDARD
BEGIN:DAYLIGHT
TZOFFSETFROM:+0100
TZOFFSETTO:+0200
TZNAME:CEST
DTSTART:20240331T010000
END:DAYLIGHT
BEGIN:STANDARD
TZOFFSETFROM:+0200
TZOFFSETTO:+0100
TZNAME:CET
DTSTART:20241027T010000
END:STANDARD
END:VTIMEZONE
BEGIN:VEVENT
DTSTART;VALUE=DATE:20230219
DTEND;VALUE=DATE:20230220
DTSTAMP:20260424T041523
CREATED:20230207T114754Z
LAST-MODIFIED:20230208T160601Z
UID:890-1676764800-1676851199@guerandegolfacademie.fr
SUMMARY:GOKT - Les Ormes
DESCRIPTION:La 2ème épreuve du Grand Ouest Kids Tour 2023 aura lieu le Dimanche 19 février au Golf des Ormes (Domaine des Ormes\, 35120 Epiniac). \nVoici le Programme : \n\nPoussins (nés en 2011-2012)\, formule de jeu score maximum sur 18 trous\nU10 Garçons (nés de 2013 et moins)\, formule de jeu score maximum sur 18 ou 9 trous\nPoussines (nées en 2011-2012)\, formule de jeu score maximum sur 18 trous\nU10 Filles (nées de 2013 et moins)\, formule de jeu score maximum sur 18 ou 9 trous\nAnnonce des résultats et goûter en fin de journée.\n\nIl est possible de faire un parcours de reconnaissance la veille au tarif de 20 €. Appeler le Golf des Ormes au 02 99 73 54 44 pour réserver des départs (sous réserve de dispo). \nInscription individuelle à faire par chaque participant : https://forms.gle/uPQuPgRdnSQmJfvs7 \nEt n’oubliez pas de procéder à l’adhésion annuelle au préalable si ce n’est pas déjà fait : https://liguebretagnegolf.org/grand-ouest-kids-tour-gokt/
URL:https://guerandegolfacademie.fr/event/gokt-les-ormes/
LOCATION:Golf des Ormes\, Domaine des Ormes\, Epiniac\, 35120\, France
CATEGORIES:GOKT - Grand Ouest Kids Tour 2023
ATTACH;FMTTYPE=image/jpeg:https://guerandegolfacademie.fr/wp-content/uploads/2022/08/GOKT-2023.jpeg
END:VEVENT
END:VCALENDAR